BEGIN:VCALENDAR
VERSION:2.0
PRODID:-//Visit Newbury - ECPv6.13.2.1//NONSGML v1.0//EN
CALSCALE:GREGORIAN
METHOD:PUBLISH
X-WR-CALNAME:Visit Newbury
X-ORIGINAL-URL:https://visitnewbury.org.uk
X-WR-CALDESC:Events for Visit Newbury
REFRESH-INTERVAL;VALUE=DURATION:PT1H
X-Robots-Tag:noindex
X-PUBLISHED-TTL:PT1H
BEGIN:VTIMEZONE
TZID:Europe/London
BEGIN:DAYLIGHT
TZOFFSETFROM:+0000
TZOFFSETTO:+0100
TZNAME:BST
DTSTART:20260329T010000
END:DAYLIGHT
BEGIN:STANDARD
TZOFFSETFROM:+0100
TZOFFSETTO:+0000
TZNAME:GMT
DTSTART:20261025T010000
END:STANDARD
END:VTIMEZONE
BEGIN:VEVENT
DTSTART;TZID=Europe/London:20260418T160000
DTEND;TZID=Europe/London:20260418T160000
DTSTAMP:20260420T123822
CREATED:20260123T122829Z
LAST-MODIFIED:20260123T161344Z
UID:1128397-1776528000-1776528000@visitnewbury.org.uk
SUMMARY:The Ultimate Boyband Party Show
DESCRIPTION:One epic night\, all the hits and total 90s nostalgia! \nBoybands are back…. Alright! Bigger\, bolder\, and with more hits than ever before! After two sell-out UK tours and rave reviews\, the boys are ready to serve up slick moves\, dreamy harmonies\, and all the swoon-worthy charisma you crushed on back in the day. Expect all the iconic hits from Take That\, Boyzone\, Westlife\, NSYNC\, Blue\, 5IVE\, Backstreet Boys and more! \nSo\, what you waiting for\, grab your girls and get ready to sing\, scream\, and dance like it’s 1999! \nThere are shows at 4pm and 8pm\, so head to the link below to book your tickets.
URL:https://visitnewbury.org.uk/event/the-ultimate-boyband-party-show/
LOCATION:Corn Exchange Newbury\, Corn Exchange\, Market Place\, RG14 5BD
CATEGORIES:Live Music,Theatre
ATTACH;FMTTYPE=image/webp:https://visitnewbury.org.uk/wp-content/uploads/2026/01/The-Ultimate-Boyband-Party-Show.webp
END:VEVENT
END:VCALENDAR