BEGIN:VCALENDAR
VERSION:2.0
PRODID:-//Visit Newbury - ECPv6.13.2.1//NONSGML v1.0//EN
CALSCALE:GREGORIAN
METHOD:PUBLISH
X-WR-CALNAME:Visit Newbury
X-ORIGINAL-URL:https://visitnewbury.org.uk
X-WR-CALDESC:Events for Visit Newbury
REFRESH-INTERVAL;VALUE=DURATION:PT1H
X-Robots-Tag:noindex
X-PUBLISHED-TTL:PT1H
BEGIN:VTIMEZONE
TZID:Europe/London
BEGIN:DAYLIGHT
TZOFFSETFROM:+0000
TZOFFSETTO:+0100
TZNAME:BST
DTSTART:20250330T010000
END:DAYLIGHT
BEGIN:STANDARD
TZOFFSETFROM:+0100
TZOFFSETTO:+0000
TZNAME:GMT
DTSTART:20251026T010000
END:STANDARD
END:VTIMEZONE
BEGIN:VEVENT
DTSTART;TZID=Europe/London:20251123T110000
DTEND;TZID=Europe/London:20251123T150000
DTSTAMP:20260422T232409
CREATED:20251113T130752Z
LAST-MODIFIED:20251113T130815Z
UID:1127973-1763895600-1763910000@visitnewbury.org.uk
SUMMARY:The Two Witches
DESCRIPTION:Shaw House invite you to join them for this magical pink and green show! \nThe characters will delight young audiences with a fun sing-along\, themed games and story time\, with plenty of time at the end to take photographs. \nThere are shows at 11am\, 1pm and 3pm. \nShow time approx. 40 minutes. Suitable for 3-7 year olds but younger and older children are welcome. \nDue to space restrictions\, only one accompanying adult (free) is permitted alongside a child ticket. Under 2 year olds are free with a paying group. \nThe café will be open offering sandwiches\, light snacks and drinks. Book via the link below.
URL:https://visitnewbury.org.uk/event/the-two-witches/
LOCATION:Shaw House\, Shaw House\, RG14 2DR
CATEGORIES:Theatre
ATTACH;FMTTYPE=image/jpeg:https://visitnewbury.org.uk/wp-content/uploads/2025/11/Shaw-House-The-Two-Witches.jpg
END:VEVENT
END:VCALENDAR