BEGIN:VCALENDAR
VERSION:2.0
PRODID:-//Visit Newbury - ECPv6.13.2.1//NONSGML v1.0//EN
CALSCALE:GREGORIAN
METHOD:PUBLISH
X-WR-CALNAME:Visit Newbury
X-ORIGINAL-URL:https://visitnewbury.org.uk
X-WR-CALDESC:Events for Visit Newbury
REFRESH-INTERVAL;VALUE=DURATION:PT1H
X-Robots-Tag:noindex
X-PUBLISHED-TTL:PT1H
BEGIN:VTIMEZONE
TZID:Europe/London
BEGIN:DAYLIGHT
TZOFFSETFROM:+0000
TZOFFSETTO:+0100
TZNAME:BST
DTSTART:20250330T010000
END:DAYLIGHT
BEGIN:STANDARD
TZOFFSETFROM:+0100
TZOFFSETTO:+0000
TZNAME:GMT
DTSTART:20251026T010000
END:STANDARD
END:VTIMEZONE
BEGIN:VEVENT
DTSTART;TZID=Europe/London:20250423T130000
DTEND;TZID=Europe/London:20250423T140000
DTSTAMP:20260423T165941
CREATED:20250416T142458Z
LAST-MODIFIED:20250417T085907Z
UID:624838-1745413200-1745416800@visitnewbury.org.uk
SUMMARY:Talk: A Hundred Years and More of Cycle Clubs in Newbury
DESCRIPTION:The Newbury Road Club centenary exhibition is underway at the West Berkshire Museum\, but cycle clubs have been busy in Newbury for many more years. \nDr David Portwood has been a club cyclist for nearly fifty years and a member of Newbury Road Club for over thirty. The last few years Dave has been researching the history of cycle clubs in Newbury as part of the centenary celebrations of the club in 2025. \nThis talk will give a short history of cycling clubs in Newbury with particular emphasis on the Newbury Road Club from its formation by the Bance brothers to the active and busy club it is today. \nEntry to the museum and the talk are free\, but you are requested to pre-book your seats via the link below. \nBookings close at 4pm the day before the talk.
URL:https://visitnewbury.org.uk/event/talk-a-hundred-years-and-more-of-cycle-clubs-in-newbury/
LOCATION:West Berkshire Museum\, West Berkshire Museum\, RG14 5AS
CATEGORIES:Arts & Culture,History,Museum Events
ATTACH;FMTTYPE=image/jpeg:https://visitnewbury.org.uk/wp-content/uploads/2025/03/Newbury-Road-Club-100.jpg
END:VEVENT
END:VCALENDAR