BEGIN:VCALENDAR
VERSION:2.0
PRODID:-//Visit Newbury - ECPv6.13.2.1//NONSGML v1.0//EN
CALSCALE:GREGORIAN
METHOD:PUBLISH
X-WR-CALNAME:Visit Newbury
X-ORIGINAL-URL:https://visitnewbury.org.uk
X-WR-CALDESC:Events for Visit Newbury
REFRESH-INTERVAL;VALUE=DURATION:PT1H
X-Robots-Tag:noindex
X-PUBLISHED-TTL:PT1H
BEGIN:VTIMEZONE
TZID:Europe/London
BEGIN:DAYLIGHT
TZOFFSETFROM:+0000
TZOFFSETTO:+0100
TZNAME:BST
DTSTART:20250330T010000
END:DAYLIGHT
BEGIN:STANDARD
TZOFFSETFROM:+0100
TZOFFSETTO:+0000
TZNAME:GMT
DTSTART:20251026T010000
END:STANDARD
END:VTIMEZONE
BEGIN:VEVENT
DTSTART;TZID=Europe/London:20251031T113000
DTEND;TZID=Europe/London:20251031T113000
DTSTAMP:20260419T192250
CREATED:20251006T121448Z
LAST-MODIFIED:20251006T121509Z
UID:1127378-1761910200-1761910200@visitnewbury.org.uk
SUMMARY:Storytime and Colouring
DESCRIPTION:Free drop-in event for children of all ages at Newbury Library.
URL:https://visitnewbury.org.uk/event/storytime-and-colouring/
LOCATION:Newbury Library\, Newbury Library\, The Wharf\, RG14 5AU
CATEGORIES:Arts & Crafts,Children's Sessions,Library Events,School Holidays & Half Term
ATTACH;FMTTYPE=image/png:https://visitnewbury.org.uk/wp-content/uploads/2025/10/West-Berkshire-Libraries.png
END:VEVENT
END:VCALENDAR