BEGIN:VCALENDAR
VERSION:2.0
PRODID:-//Visit Newbury - ECPv6.13.2.1//NONSGML v1.0//EN
CALSCALE:GREGORIAN
METHOD:PUBLISH
X-WR-CALNAME:Visit Newbury
X-ORIGINAL-URL:https://visitnewbury.org.uk
X-WR-CALDESC:Events for Visit Newbury
REFRESH-INTERVAL;VALUE=DURATION:PT1H
X-Robots-Tag:noindex
X-PUBLISHED-TTL:PT1H
BEGIN:VTIMEZONE
TZID:Europe/London
BEGIN:DAYLIGHT
TZOFFSETFROM:+0000
TZOFFSETTO:+0100
TZNAME:BST
DTSTART:20260329T010000
END:DAYLIGHT
BEGIN:STANDARD
TZOFFSETFROM:+0100
TZOFFSETTO:+0000
TZNAME:GMT
DTSTART:20261025T010000
END:STANDARD
END:VTIMEZONE
BEGIN:VEVENT
DTSTART;TZID=Europe/London:20260321T194500
DTEND;TZID=Europe/London:20260321T194500
DTSTAMP:20260423T121117
CREATED:20260123T122738Z
LAST-MODIFIED:20260123T160629Z
UID:1128385-1774122300-1774122300@visitnewbury.org.uk
SUMMARY:Saving All My Love For You
DESCRIPTION:Experience the magic of Whitney Houston like never before with Saving All My Love For You in a breathtaking celebration of the voice that defined generations. \nThis spectacular tribute brings Whitney’s greatest hits to life\, from heart-melting ballads including I Will Always Love You and Greatest Love of All to sparkling dancefloor anthems such as I Wanna Dance with Somebody and How Will I Know that will have you moving all night long. \nFeaturing a world-class vocalist embodying Whitney’s iconic sound\, supported by a fantastic live band and powerhouse backing vocalists\, this show radiates the energy\, elegance\, and sheer magic of Whitney’s unforgettable performances. With stunning costumes\, every element radiates Whitney’s timeless magic\, creating an atmosphere filled with joy\, wonder\, and pure musical brilliance. \nDon’t miss an evening filled with soul-stirring music\, electrifying hits\, and moments of pure enchantment. Saving All My Love For You – a magical celebration of the one and only Whitney Houston!
URL:https://visitnewbury.org.uk/event/saving-all-my-love-for-you/
LOCATION:Corn Exchange Newbury\, Corn Exchange\, Market Place\, RG14 5BD
CATEGORIES:Live Music
ATTACH;FMTTYPE=image/webp:https://visitnewbury.org.uk/wp-content/uploads/2026/01/Saving-All-My-Love-For-You-Corn-Exchange.webp
END:VEVENT
END:VCALENDAR