BEGIN:VCALENDAR
VERSION:2.0
PRODID:-//Visit Newbury - ECPv6.13.2.1//NONSGML v1.0//EN
CALSCALE:GREGORIAN
METHOD:PUBLISH
X-WR-CALNAME:Visit Newbury
X-ORIGINAL-URL:https://visitnewbury.org.uk
X-WR-CALDESC:Events for Visit Newbury
REFRESH-INTERVAL;VALUE=DURATION:PT1H
X-Robots-Tag:noindex
X-PUBLISHED-TTL:PT1H
BEGIN:VTIMEZONE
TZID:Europe/London
BEGIN:DAYLIGHT
TZOFFSETFROM:+0000
TZOFFSETTO:+0100
TZNAME:BST
DTSTART:20260329T010000
END:DAYLIGHT
BEGIN:STANDARD
TZOFFSETFROM:+0100
TZOFFSETTO:+0000
TZNAME:GMT
DTSTART:20261025T010000
END:STANDARD
END:VTIMEZONE
BEGIN:VEVENT
DTSTART;TZID=Europe/London:20260624T200000
DTEND;TZID=Europe/London:20260624T200000
DTSTAMP:20260422T122846
CREATED:20260415T123619Z
LAST-MODIFIED:20260415T123619Z
UID:1129727-1782331200-1782331200@visitnewbury.org.uk
SUMMARY:Rich Hall: Chin Music
DESCRIPTION:Chin Music’ has two meanings. One is idle talk. The other is a brushback throw in baseball or cricket to intimidate the batter. \nBoth describe Rich Hall’s comedy. Idle but intimidating. Sharp\, quick\, splenetic\, and sublimely improvisational. If you’ve never seen him\, you need to grab a seat because he never disappoints. Ever. \nRich has won critical acclaim across the globe by performing to sell-out audiences each year at the Edinburgh Fringe\, throughout sell-out UK tours and at comedy festivals worldwide. His grouchy\, deadpan style has established him as a master of absurdist irony and the king of rapid-fire wit. \nNotable TV appearances include regular appearances on QI\, Live At The Apollo\, Have I Got News For You\, and Never Mind The Buzzcocks. \nLearn more or book your tickets via the link below.
URL:https://visitnewbury.org.uk/event/rich-hall-chin-music/
LOCATION:Corn Exchange Newbury\, Corn Exchange\, Market Place\, RG14 5BD
CATEGORIES:Comedy
ATTACH;FMTTYPE=image/webp:https://visitnewbury.org.uk/wp-content/uploads/2026/04/Rich-Hall-Chin-Music-Corn-Exchange.webp
END:VEVENT
END:VCALENDAR