BEGIN:VCALENDAR
VERSION:2.0
PRODID:-//Visit Newbury - ECPv6.13.2.1//NONSGML v1.0//EN
CALSCALE:GREGORIAN
METHOD:PUBLISH
X-WR-CALNAME:Visit Newbury
X-ORIGINAL-URL:https://visitnewbury.org.uk
X-WR-CALDESC:Events for Visit Newbury
REFRESH-INTERVAL;VALUE=DURATION:PT1H
X-Robots-Tag:noindex
X-PUBLISHED-TTL:PT1H
BEGIN:VTIMEZONE
TZID:Europe/London
BEGIN:DAYLIGHT
TZOFFSETFROM:+0000
TZOFFSETTO:+0100
TZNAME:BST
DTSTART:20260329T010000
END:DAYLIGHT
BEGIN:STANDARD
TZOFFSETFROM:+0100
TZOFFSETTO:+0000
TZNAME:GMT
DTSTART:20261025T010000
END:STANDARD
END:VTIMEZONE
BEGIN:VEVENT
DTSTART;TZID=Europe/London:20260115T190000
DTEND;TZID=Europe/London:20260115T210000
DTSTAMP:20260421T102426
CREATED:20260115T122249Z
LAST-MODIFIED:20260115T122311Z
UID:1128315-1768503600-1768510800@visitnewbury.org.uk
SUMMARY:Rebel Craft Club
DESCRIPTION:Getting creative and having fun doesn’t have to be just for kids! \nThe team at Delphic and Libby from Magpie and the Mob have teamed up to host this brand new craft evening\, where each month you’ll have the chance to try out and learn a new technique – no prior experience needed. \nEven better? All materials will be included. \n*January’s event has sold out\, but head to the link below where you can book your tickets for future dates*
URL:https://visitnewbury.org.uk/event/rebel-craft-club-january2026/
LOCATION:Delphic Brewing Co Taproom\, Delphic Brewing Co Taproom\, RG14 5DR
CATEGORIES:Arts & Crafts,Pub & Restaurant Events
ATTACH;FMTTYPE=image/webp:https://visitnewbury.org.uk/wp-content/uploads/2026/01/Rebel-Craft-Club-Delphic.webp
END:VEVENT
END:VCALENDAR