BEGIN:VCALENDAR
VERSION:2.0
PRODID:-//Visit Newbury - ECPv6.13.2.1//NONSGML v1.0//EN
CALSCALE:GREGORIAN
METHOD:PUBLISH
X-WR-CALNAME:Visit Newbury
X-ORIGINAL-URL:https://visitnewbury.org.uk
X-WR-CALDESC:Events for Visit Newbury
REFRESH-INTERVAL;VALUE=DURATION:PT1H
X-Robots-Tag:noindex
X-PUBLISHED-TTL:PT1H
BEGIN:VTIMEZONE
TZID:Europe/London
BEGIN:DAYLIGHT
TZOFFSETFROM:+0000
TZOFFSETTO:+0100
TZNAME:BST
DTSTART:20250330T010000
END:DAYLIGHT
BEGIN:STANDARD
TZOFFSETFROM:+0100
TZOFFSETTO:+0000
TZNAME:GMT
DTSTART:20251026T010000
END:STANDARD
END:VTIMEZONE
BEGIN:VEVENT
DTSTART;TZID=Europe/London:20250521T100000
DTEND;TZID=Europe/London:20250521T140000
DTSTAMP:20260426T032638
CREATED:20250509T105717Z
LAST-MODIFIED:20250509T105717Z
UID:1125034-1747821600-1747836000@visitnewbury.org.uk
SUMMARY:Reading Football Club Pitch Walk & Dementia Cafe
DESCRIPTION:A free event that forms part of this year’s Dementia Action Week. \nHead along and walk the pitch with some young Reading Football Club players\, then join for information stalls and a Dementia Cafe in the Players Lounge. \nTo book\, email: info@ageukberkshire.org.uk
URL:https://visitnewbury.org.uk/event/reading-football-club-pitch-walk-dementia-cafe/
LOCATION:Select Car Leasing Stadium\, Select Car Leasing Stadium\, RG2 0FL
CATEGORIES:Health & Wellbeing,Sport
ATTACH;FMTTYPE=image/jpeg:https://visitnewbury.org.uk/wp-content/uploads/2025/05/DAW2025_8.jpg
END:VEVENT
END:VCALENDAR