BEGIN:VCALENDAR
VERSION:2.0
PRODID:-//Visit Newbury - ECPv6.13.2.1//NONSGML v1.0//EN
CALSCALE:GREGORIAN
METHOD:PUBLISH
X-WR-CALNAME:Visit Newbury
X-ORIGINAL-URL:https://visitnewbury.org.uk
X-WR-CALDESC:Events for Visit Newbury
REFRESH-INTERVAL;VALUE=DURATION:PT1H
X-Robots-Tag:noindex
X-PUBLISHED-TTL:PT1H
BEGIN:VTIMEZONE
TZID:Europe/London
BEGIN:DAYLIGHT
TZOFFSETFROM:+0000
TZOFFSETTO:+0100
TZNAME:BST
DTSTART:20250330T010000
END:DAYLIGHT
BEGIN:STANDARD
TZOFFSETFROM:+0100
TZOFFSETTO:+0000
TZNAME:GMT
DTSTART:20251026T010000
END:STANDARD
END:VTIMEZONE
BEGIN:VEVENT
DTSTART;TZID=Europe/London:20251101T190000
DTEND;TZID=Europe/London:20251102T020000
DTSTAMP:20260425T191412
CREATED:20251006T151619Z
LAST-MODIFIED:20251006T151638Z
UID:12002507-1762023600-1762048800@visitnewbury.org.uk
SUMMARY:Nightmare on Wharf Street
DESCRIPTION:This Halloween\, Reloaded Bar is bringing you Newbury’s BIGGEST Halloween Weekender Party. \nThere will be live scare actors lurking in the shadows\, and Spooky Happy Hour deals to keep your spirits high all night. A fully immersive Halloween atmosphere like no other! \nThis event is 18+\, and make sure you secure a ticket via the link below as we expect these will sell out fast! \nEvent dates: \n\nFriday 31st October – 7pm-2am\nSaturday 1st November – 7pm-2am
URL:https://visitnewbury.org.uk/event/nightmare-on-wharf-street/2025-11-01/
LOCATION:Reloaded Bar\, Reloaded Bar\, RG14 5AN
CATEGORIES:Halloween,Pub & Restaurant Events
ATTACH;FMTTYPE=image/jpeg:https://visitnewbury.org.uk/wp-content/uploads/2025/10/Nightmare-on-Wharf-Street-Reloaded.jpg
END:VEVENT
END:VCALENDAR