BEGIN:VCALENDAR
VERSION:2.0
PRODID:-//Visit Newbury - ECPv6.13.2.1//NONSGML v1.0//EN
CALSCALE:GREGORIAN
METHOD:PUBLISH
X-WR-CALNAME:Visit Newbury
X-ORIGINAL-URL:https://visitnewbury.org.uk
X-WR-CALDESC:Events for Visit Newbury
REFRESH-INTERVAL;VALUE=DURATION:PT1H
X-Robots-Tag:noindex
X-PUBLISHED-TTL:PT1H
BEGIN:VTIMEZONE
TZID:Europe/London
BEGIN:DAYLIGHT
TZOFFSETFROM:+0000
TZOFFSETTO:+0100
TZNAME:BST
DTSTART:20260329T010000
END:DAYLIGHT
BEGIN:STANDARD
TZOFFSETFROM:+0100
TZOFFSETTO:+0000
TZNAME:GMT
DTSTART:20261025T010000
END:STANDARD
END:VTIMEZONE
BEGIN:VEVENT
DTSTART;TZID=Europe/London:20260321T193000
DTEND;TZID=Europe/London:20260321T193000
DTSTAMP:20260423T093741
CREATED:20260217T105505Z
LAST-MODIFIED:20260217T105505Z
UID:1128884-1774121400-1774121400@visitnewbury.org.uk
SUMMARY:Newbury Symphony Orchestra Spring Concert
DESCRIPTION:Join the Newbury Symphony Orchestra for their Spring Concert at St Nicolas Church\, featuring a stellar programme of orchestral favourites includes Elgar’s Pomp & Circumstance March #4\, Sibelius’ Violin Concerto with soloist Yume Tomita\, and Holst’s The Planets. The concert will be conducted by Jonathan Williams. \nTickets cost £18 for adults\, £7.50 for students\, and £5 for under-18s\, and are available to purchase on the door or in-advance via the link below.
URL:https://visitnewbury.org.uk/event/newbury-symphony-orchestra-spring-concert/
LOCATION:St Nicolas Church\, St Nicolas Church\, RG14 5HG
CATEGORIES:Arts & Culture,Music
ATTACH;FMTTYPE=image/jpeg:https://visitnewbury.org.uk/wp-content/uploads/2026/02/Newbury-Symphony-Ochestra-Spring-Concert-March-2026-scaled.jpg
END:VEVENT
END:VCALENDAR