BEGIN:VCALENDAR
VERSION:2.0
PRODID:-//Visit Newbury - ECPv6.13.2.1//NONSGML v1.0//EN
CALSCALE:GREGORIAN
METHOD:PUBLISH
X-WR-CALNAME:Visit Newbury
X-ORIGINAL-URL:https://visitnewbury.org.uk
X-WR-CALDESC:Events for Visit Newbury
REFRESH-INTERVAL;VALUE=DURATION:PT1H
X-Robots-Tag:noindex
X-PUBLISHED-TTL:PT1H
BEGIN:VTIMEZONE
TZID:Europe/London
BEGIN:DAYLIGHT
TZOFFSETFROM:+0000
TZOFFSETTO:+0100
TZNAME:BST
DTSTART:20250330T010000
END:DAYLIGHT
BEGIN:STANDARD
TZOFFSETFROM:+0100
TZOFFSETTO:+0000
TZNAME:GMT
DTSTART:20251026T010000
END:STANDARD
END:VTIMEZONE
BEGIN:VEVENT
DTSTART;TZID=Europe/London:20250314T190000
DTEND;TZID=Europe/London:20250314T190000
DTSTAMP:20260421T203813
CREATED:20250218T233007Z
LAST-MODIFIED:20250306T152750Z
UID:624202-1741978800-1741978800@visitnewbury.org.uk
SUMMARY:Newbury Sounds: A Fundraising Concert for the Old Library Campaign
DESCRIPTION:Join Corn Exchange Newbury for an exciting evening of original music in aid of the Old Library Campaign. \nThis event\, curated by Ben Richardson and his band A Dirty Soul\, will unite the Newbury music scene with Sion Whiley Band performing alongside other fantastic local artists. Head along to support local musicians whilst helping to raise much-needed funds for the Old Library Campaign! \nDiscover the line-up below: \n\nThe Sion Whiley Band\nA Dirty Soul\nColorado River\nInfinite Horse\nRevenant\n\nLearn more and book your tickets via the event link below – and remember\, all proceeds go towards the Old Library Campaign!
URL:https://visitnewbury.org.uk/event/newbury-sounds-a-fundraising-concert-for-the-old-library-campaign/
LOCATION:Corn Exchange Newbury\, Corn Exchange\, Market Place\, RG14 5BD
CATEGORIES:Live Music
ATTACH;FMTTYPE=image/jpeg:https://visitnewbury.org.uk/wp-content/uploads/2025/02/Newbury-Sounds.jpg
END:VEVENT
END:VCALENDAR