BEGIN:VCALENDAR
VERSION:2.0
PRODID:-//Visit Newbury - ECPv6.13.2.1//NONSGML v1.0//EN
CALSCALE:GREGORIAN
METHOD:PUBLISH
X-WR-CALNAME:Visit Newbury
X-ORIGINAL-URL:https://visitnewbury.org.uk
X-WR-CALDESC:Events for Visit Newbury
REFRESH-INTERVAL;VALUE=DURATION:PT1H
X-Robots-Tag:noindex
X-PUBLISHED-TTL:PT1H
BEGIN:VTIMEZONE
TZID:Europe/London
BEGIN:DAYLIGHT
TZOFFSETFROM:+0000
TZOFFSETTO:+0100
TZNAME:BST
DTSTART:20250330T010000
END:DAYLIGHT
BEGIN:STANDARD
TZOFFSETFROM:+0100
TZOFFSETTO:+0000
TZNAME:GMT
DTSTART:20251026T010000
END:STANDARD
END:VTIMEZONE
BEGIN:VEVENT
DTSTART;TZID=Europe/London:20251128T093000
DTEND;TZID=Europe/London:20251128T163000
DTSTAMP:20260423T105510
CREATED:20251128T102006Z
LAST-MODIFIED:20251128T103637Z
UID:1128017-1764322200-1764347400@visitnewbury.org.uk
SUMMARY:Newbury Art Group Christmas Sale of Work
DESCRIPTION:A Winter exhibition to showcase and offer sale of artwork created by the members of Newbury Art Group in the beautiful Newbury Town Hall. \nThe exhibition is free to enter\, and you can learn more via the link below.
URL:https://visitnewbury.org.uk/event/newbury-art-group-christmas-sale-of-work-2/
LOCATION:Newbury Town Hall\, Newbury Town Hall\, RG14 5AA
CATEGORIES:Art Exhibition,Christmas
ATTACH;FMTTYPE=image/jpeg:https://visitnewbury.org.uk/wp-content/uploads/2025/11/Newbury-Art-Group-Christmas-Sale.jpg
END:VEVENT
END:VCALENDAR