BEGIN:VCALENDAR
VERSION:2.0
PRODID:-//Visit Newbury - ECPv6.13.2.1//NONSGML v1.0//EN
CALSCALE:GREGORIAN
METHOD:PUBLISH
X-WR-CALNAME:Visit Newbury
X-ORIGINAL-URL:https://visitnewbury.org.uk
X-WR-CALDESC:Events for Visit Newbury
REFRESH-INTERVAL;VALUE=DURATION:PT1H
X-Robots-Tag:noindex
X-PUBLISHED-TTL:PT1H
BEGIN:VTIMEZONE
TZID:Europe/London
BEGIN:DAYLIGHT
TZOFFSETFROM:+0000
TZOFFSETTO:+0100
TZNAME:BST
DTSTART:20250330T010000
END:DAYLIGHT
BEGIN:STANDARD
TZOFFSETFROM:+0100
TZOFFSETTO:+0000
TZNAME:GMT
DTSTART:20251026T010000
END:STANDARD
END:VTIMEZONE
BEGIN:VEVENT
DTSTART;TZID=Europe/London:20251231T200000
DTEND;TZID=Europe/London:20251231T233000
DTSTAMP:20260421T102222
CREATED:20251222T133200Z
LAST-MODIFIED:20251223T154634Z
UID:1128108-1767211200-1767223800@visitnewbury.org.uk
SUMMARY:New Year's Eve Glitter Ball
DESCRIPTION:Looking for ideas for your New Year’s Eve celebration? Look no further than Slug & Lettuce’s All That Glitters event: it’s the biggest night of the year – and they are going all out! \nThink NYE events with sparkle\, style\, and a splash of fizz from the moment you walk through the door. Secure your spot\, and get a ticket now\, or swing by as a walk-in. You’ll be greeted with a glass of fizz\, with brunch sittings running right up until 9pm. \nStill wondering where to go for New Year’s Eve? You’ve just found it. \nLearn more or book your table via the link below!
URL:https://visitnewbury.org.uk/event/new-years-eve-glitter-ball/
LOCATION:Slug & Lettuce\, Slug And Lettuce Newbury\, RG14 5AN
CATEGORIES:New Year's Eve,Pub & Restaurant Events
ATTACH;FMTTYPE=image/webp:https://visitnewbury.org.uk/wp-content/uploads/2025/12/SL-NYE-2025.webp
END:VEVENT
END:VCALENDAR