BEGIN:VCALENDAR
VERSION:2.0
PRODID:-//Visit Newbury - ECPv6.13.2.1//NONSGML v1.0//EN
CALSCALE:GREGORIAN
METHOD:PUBLISH
X-WR-CALNAME:Visit Newbury
X-ORIGINAL-URL:https://visitnewbury.org.uk
X-WR-CALDESC:Events for Visit Newbury
REFRESH-INTERVAL;VALUE=DURATION:PT1H
X-Robots-Tag:noindex
X-PUBLISHED-TTL:PT1H
BEGIN:VTIMEZONE
TZID:Europe/London
BEGIN:DAYLIGHT
TZOFFSETFROM:+0000
TZOFFSETTO:+0100
TZNAME:BST
DTSTART:20250330T010000
END:DAYLIGHT
BEGIN:STANDARD
TZOFFSETFROM:+0100
TZOFFSETTO:+0000
TZNAME:GMT
DTSTART:20251026T010000
END:STANDARD
END:VTIMEZONE
BEGIN:VEVENT
DTSTART;TZID=Europe/London:20250626T193000
DTEND;TZID=Europe/London:20250626T193000
DTSTAMP:20260425T174949
CREATED:20250617T092622Z
LAST-MODIFIED:20250617T092710Z
UID:1125454-1750966200-1750966200@visitnewbury.org.uk
SUMMARY:New Material\, New Act Comedy Night
DESCRIPTION:If you like comedy that’s raw and unrehearsed this is the night for you. \nUp to seven acts (some of them established circuit comedians) will be trying out new material and they need an audience to find out what works and what doesn’t. \nJust £2 a ticket and some of the cheapest bar prices in town. Book your tickets at the link below.
URL:https://visitnewbury.org.uk/event/new-material-new-act-comedy-night/
LOCATION:Pelican Lounge & Haig Hall\, Pelican Lounge & Haig Hall at Newbury Royal British Legion\, RG14 1NP
CATEGORIES:Comedy
ATTACH;FMTTYPE=image/jpeg:https://visitnewbury.org.uk/wp-content/uploads/2025/06/Newbury-New-Act-New-Material-Comedy-Night.jpg
END:VEVENT
END:VCALENDAR