BEGIN:VCALENDAR
VERSION:2.0
PRODID:-//Visit Newbury - ECPv6.13.2.1//NONSGML v1.0//EN
CALSCALE:GREGORIAN
METHOD:PUBLISH
X-WR-CALNAME:Visit Newbury
X-ORIGINAL-URL:https://visitnewbury.org.uk
X-WR-CALDESC:Events for Visit Newbury
REFRESH-INTERVAL;VALUE=DURATION:PT1H
X-Robots-Tag:noindex
X-PUBLISHED-TTL:PT1H
BEGIN:VTIMEZONE
TZID:Europe/London
BEGIN:DAYLIGHT
TZOFFSETFROM:+0000
TZOFFSETTO:+0100
TZNAME:BST
DTSTART:20260329T010000
END:DAYLIGHT
BEGIN:STANDARD
TZOFFSETFROM:+0100
TZOFFSETTO:+0000
TZNAME:GMT
DTSTART:20261025T010000
END:STANDARD
END:VTIMEZONE
BEGIN:VEVENT
DTSTART;TZID=Europe/London:20260722T200000
DTEND;TZID=Europe/London:20260722T200000
DTSTAMP:20260423T133118
CREATED:20260415T130109Z
LAST-MODIFIED:20260415T130109Z
UID:1129740-1784750400-1784750400@visitnewbury.org.uk
SUMMARY:Michelle Wolf: Best Job in the World
DESCRIPTION:Primetime Emmy Nominee Michelle Wolf has established herself as one of the most influential voices in the comedy landscape. \nHer stand-up specials across HBO and Netflix have garnered critical acclaim and top viewing figures. \nWolf has headlined across the world\, including her infamous appearance at the White House Correspondents Dinner. Her last sold-out Edinburgh Fringe run scored a prestigious Edinburgh Comedy Award nomination. \nWolf is also known for her appearances on The Daily Show (Comedy Central) and The Break with Michelle Wolf (Netflix). \nLearn more or book your tickets via the link below.
URL:https://visitnewbury.org.uk/event/michelle-wolf-best-job-in-the-world/
LOCATION:Corn Exchange Newbury\, Corn Exchange\, Market Place\, RG14 5BD
CATEGORIES:Comedy
ATTACH;FMTTYPE=image/webp:https://visitnewbury.org.uk/wp-content/uploads/2026/04/Michelle-Wolf-Corn-Exchange.webp
END:VEVENT
END:VCALENDAR