BEGIN:VCALENDAR
VERSION:2.0
PRODID:-//Visit Newbury - ECPv6.13.2.1//NONSGML v1.0//EN
CALSCALE:GREGORIAN
METHOD:PUBLISH
X-WR-CALNAME:Visit Newbury
X-ORIGINAL-URL:https://visitnewbury.org.uk
X-WR-CALDESC:Events for Visit Newbury
REFRESH-INTERVAL;VALUE=DURATION:PT1H
X-Robots-Tag:noindex
X-PUBLISHED-TTL:PT1H
BEGIN:VTIMEZONE
TZID:Europe/London
BEGIN:DAYLIGHT
TZOFFSETFROM:+0000
TZOFFSETTO:+0100
TZNAME:BST
DTSTART:20260329T010000
END:DAYLIGHT
BEGIN:STANDARD
TZOFFSETFROM:+0100
TZOFFSETTO:+0000
TZNAME:GMT
DTSTART:20261025T010000
END:STANDARD
END:VTIMEZONE
BEGIN:VEVENT
DTSTART;TZID=Europe/London:20260627T100000
DTEND;TZID=Europe/London:20260627T123000
DTSTAMP:20260420T122247
CREATED:20260415T131038Z
LAST-MODIFIED:20260415T131038Z
UID:1129747-1782554400-1782563400@visitnewbury.org.uk
SUMMARY:Make a Willow Swift Workshop
DESCRIPTION:A great introduction to willow sculpture with Judith Needham. \nIn this class you will make a beautiful two-dimensional sculpture of a swift to hang on the wall. Suitable for beginners and those with some experience \nWhat to expect: In this 2.5 hour class you will make a beautiful two-dimensional sculpture of a swift to hang on the wall. Suitable for beginners and those with some experience\, Judith will give you an introduction to willow weaving. You will learn how to create the willow frame along with weaving techniques to bring your swift to life. \nWhat to bring/wear: All materials are included. \nBenefits: In this workshop you will be learning the traditional craft of willow weaving which not only creates a lasting functional or decorative item for you to take home to enjoy\, it also helps promote and celebrate this ancient heritage craft. As a hands on workshop\, working with this natural material is a great creative work out for your hands! \nAbout the artist: Judith Needham is a basket maker and willow weaver based in Farnham\, Surrey – England’s Craft Town. Judith specialises in woven willow playhouses but I also make baskets and teach basket making and willow sculpture. Judith enjoys passing on her skills through teaching workshops to adults and children at various venues across Surrey and Hampshire.
URL:https://visitnewbury.org.uk/event/make-a-willow-swift-workshop/
LOCATION:The Base\, Greenham\, The Base\, Greenham Business Park\, RG19 6HN
CATEGORIES:Arts & Crafts
ATTACH;FMTTYPE=image/png:https://visitnewbury.org.uk/wp-content/uploads/2026/04/Make-a-Willow-Swift-workshop-The-Base-Greenham.png
END:VEVENT
END:VCALENDAR