BEGIN:VCALENDAR
VERSION:2.0
PRODID:-//Visit Newbury - ECPv6.13.2.1//NONSGML v1.0//EN
CALSCALE:GREGORIAN
METHOD:PUBLISH
X-WR-CALNAME:Visit Newbury
X-ORIGINAL-URL:https://visitnewbury.org.uk
X-WR-CALDESC:Events for Visit Newbury
REFRESH-INTERVAL;VALUE=DURATION:PT1H
X-Robots-Tag:noindex
X-PUBLISHED-TTL:PT1H
BEGIN:VTIMEZONE
TZID:Europe/London
BEGIN:DAYLIGHT
TZOFFSETFROM:+0000
TZOFFSETTO:+0100
TZNAME:BST
DTSTART:20250330T010000
END:DAYLIGHT
BEGIN:STANDARD
TZOFFSETFROM:+0100
TZOFFSETTO:+0000
TZNAME:GMT
DTSTART:20251026T010000
END:STANDARD
END:VTIMEZONE
BEGIN:VEVENT
DTSTART;TZID=Europe/London:20250221T203000
DTEND;TZID=Europe/London:20250221T203000
DTSTAMP:20260421T203651
CREATED:20250212T162546Z
LAST-MODIFIED:20250212T162612Z
UID:124207-1740169800-1740169800@visitnewbury.org.uk
SUMMARY:Live Music at The Newbury: Northern Lights
DESCRIPTION:The Newbury Pub & Terrace host live music every Friday\, the perfect way to kick off your weekend!
URL:https://visitnewbury.org.uk/event/live-music-at-the-newbury-northern-lights/
LOCATION:The Newbury Pub & Terrace\, The Newbury Pub & Terrace\, RG145HB
CATEGORIES:Live Music,Pub & Restaurant Events
ATTACH;FMTTYPE=image/jpeg:https://visitnewbury.org.uk/wp-content/uploads/2025/02/The-Newbury-logo.jpg
END:VEVENT
END:VCALENDAR