BEGIN:VCALENDAR
VERSION:2.0
PRODID:-//Visit Newbury - ECPv6.13.2.1//NONSGML v1.0//EN
CALSCALE:GREGORIAN
METHOD:PUBLISH
X-WR-CALNAME:Visit Newbury
X-ORIGINAL-URL:https://visitnewbury.org.uk
X-WR-CALDESC:Events for Visit Newbury
REFRESH-INTERVAL;VALUE=DURATION:PT1H
X-Robots-Tag:noindex
X-PUBLISHED-TTL:PT1H
BEGIN:VTIMEZONE
TZID:Europe/London
BEGIN:DAYLIGHT
TZOFFSETFROM:+0000
TZOFFSETTO:+0100
TZNAME:BST
DTSTART:20250330T010000
END:DAYLIGHT
BEGIN:STANDARD
TZOFFSETFROM:+0100
TZOFFSETTO:+0000
TZNAME:GMT
DTSTART:20251026T010000
END:STANDARD
END:VTIMEZONE
BEGIN:VEVENT
DTSTART;TZID=Europe/London:20250614T203000
DTEND;TZID=Europe/London:20250614T203000
DTSTAMP:20260423T121351
CREATED:20250613T130922Z
LAST-MODIFIED:20250613T130922Z
UID:1125422-1749933000-1749933000@visitnewbury.org.uk
SUMMARY:Live Music at The Lion: The Lost 45s
DESCRIPTION:Seee The Lost 45s play live at The Lion on West St\, Newbury. \nFeaturing classic 60’s music from The Beatles\, The Rolling Stones\, The Kinks\, Loving Spoonful\, Jimi Hendrix\, The Moody Blues\, The Doors\, The Who and many others!
URL:https://visitnewbury.org.uk/event/live-music-at-the-lion-the-lost-45s/
LOCATION:The Lion\, The Lion\, RG14 1BD
CATEGORIES:Live Music,Pub & Restaurant Events
ATTACH;FMTTYPE=image/jpeg:https://visitnewbury.org.uk/wp-content/uploads/2025/06/The-Lion-The-Lost-45s.jpg
END:VEVENT
END:VCALENDAR