BEGIN:VCALENDAR
VERSION:2.0
PRODID:-//Visit Newbury - ECPv6.13.2.1//NONSGML v1.0//EN
CALSCALE:GREGORIAN
METHOD:PUBLISH
X-WR-CALNAME:Visit Newbury
X-ORIGINAL-URL:https://visitnewbury.org.uk
X-WR-CALDESC:Events for Visit Newbury
REFRESH-INTERVAL;VALUE=DURATION:PT1H
X-Robots-Tag:noindex
X-PUBLISHED-TTL:PT1H
BEGIN:VTIMEZONE
TZID:Europe/London
BEGIN:DAYLIGHT
TZOFFSETFROM:+0000
TZOFFSETTO:+0100
TZNAME:BST
DTSTART:20260329T010000
END:DAYLIGHT
BEGIN:STANDARD
TZOFFSETFROM:+0100
TZOFFSETTO:+0000
TZNAME:GMT
DTSTART:20261025T010000
END:STANDARD
END:VTIMEZONE
BEGIN:VEVENT
DTSTART;TZID=Europe/London:20260213T190000
DTEND;TZID=Europe/London:20260213T230000
DTSTAMP:20260421T161036
CREATED:20260206T122648Z
LAST-MODIFIED:20260206T122747Z
UID:1128741-1771009200-1771023600@visitnewbury.org.uk
SUMMARY:Ladies' Night
DESCRIPTION:The Globe hosts its very first Ladies Night on Friday 13th February\, hosted by its wonderful all-female bar team! \nThe evening kicks off at 7pm\, with special deals on wine\, cocktails\, and prosecco\, and there are also alcohol free options available. \nEnjoy live music from 9pm to 11pm\, and maybe the best part… dogs are very welcome!
URL:https://visitnewbury.org.uk/event/ladies-night/
LOCATION:The Globe\, The Globe\, RG14 5HB
CATEGORIES:Live Music,Pub & Restaurant Events,Valentine's Day
ATTACH;FMTTYPE=image/jpeg:https://visitnewbury.org.uk/wp-content/uploads/2026/02/The-Globe-Ladies-Night-e1770380572977.jpg
END:VEVENT
END:VCALENDAR