BEGIN:VCALENDAR
VERSION:2.0
PRODID:-//Visit Newbury - ECPv6.13.2.1//NONSGML v1.0//EN
CALSCALE:GREGORIAN
METHOD:PUBLISH
X-WR-CALNAME:Visit Newbury
X-ORIGINAL-URL:https://visitnewbury.org.uk
X-WR-CALDESC:Events for Visit Newbury
REFRESH-INTERVAL;VALUE=DURATION:PT1H
X-Robots-Tag:noindex
X-PUBLISHED-TTL:PT1H
BEGIN:VTIMEZONE
TZID:Europe/London
BEGIN:DAYLIGHT
TZOFFSETFROM:+0000
TZOFFSETTO:+0100
TZNAME:BST
DTSTART:20250330T010000
END:DAYLIGHT
BEGIN:STANDARD
TZOFFSETFROM:+0100
TZOFFSETTO:+0000
TZNAME:GMT
DTSTART:20251026T010000
END:STANDARD
END:VTIMEZONE
BEGIN:VEVENT
DTSTART;TZID=Europe/London:20250216T081500
DTEND;TZID=Europe/London:20250216T081500
DTSTAMP:20260420T111350
CREATED:20250212T153013Z
LAST-MODIFIED:20250212T153058Z
UID:124188-1739693700-1739693700@visitnewbury.org.uk
SUMMARY:JWS x MiLK & BEAN 5k Run
DESCRIPTION:The next Milk and Bean x JWS Fitness & Wellbeing 5k run is coming up on 16th February\, and this time it’s for a great cause. \nThe team are raising awareness and funds for Stroke Association\, in support of one of JWS Fitness’ clients – it’s a really touching story\, you can learn more on their page! \nMeet up with the other runners outside the Milk & Bean shop at 8:15am\, and remember all runners get 20% off all hot drinks after the run. \nMake sure you book in via the link below.
URL:https://visitnewbury.org.uk/event/jws-x-milk-bean-5k-run/
LOCATION:MiLK & BEAN\, Milk & Bean\, RG14 1DJ
CATEGORIES:Community Events,Fun Runs
ATTACH;FMTTYPE=image/jpeg:https://visitnewbury.org.uk/wp-content/uploads/2025/02/Milk-Bean-5k-run-Feb2025.jpg
END:VEVENT
END:VCALENDAR