BEGIN:VCALENDAR
VERSION:2.0
PRODID:-//Visit Newbury - ECPv6.13.2.1//NONSGML v1.0//EN
CALSCALE:GREGORIAN
METHOD:PUBLISH
X-WR-CALNAME:Visit Newbury
X-ORIGINAL-URL:https://visitnewbury.org.uk
X-WR-CALDESC:Events for Visit Newbury
REFRESH-INTERVAL;VALUE=DURATION:PT1H
X-Robots-Tag:noindex
X-PUBLISHED-TTL:PT1H
BEGIN:VTIMEZONE
TZID:Europe/London
BEGIN:DAYLIGHT
TZOFFSETFROM:+0000
TZOFFSETTO:+0100
TZNAME:BST
DTSTART:20260329T010000
END:DAYLIGHT
BEGIN:STANDARD
TZOFFSETFROM:+0100
TZOFFSETTO:+0000
TZNAME:GMT
DTSTART:20261025T010000
END:STANDARD
END:VTIMEZONE
BEGIN:VEVENT
DTSTART;TZID=Europe/London:20260425T140000
DTEND;TZID=Europe/London:20260425T173000
DTSTAMP:20260420T135701
CREATED:20260415T130410Z
LAST-MODIFIED:20260415T130410Z
UID:1129742-1777125600-1777138200@visitnewbury.org.uk
SUMMARY:Intro to Silver Jewellery Workshop
DESCRIPTION:Jeweller Sandra McArdle will give you will give you an introduction to silversmithing and the opportunity to make a set of silver stacking rings\, incorporating different textures and shapes. \nWhat to expect:\nYou will design the piece you wish to make and learn the basics of silversmithing. You will learn how to pierce (cut) silver\, anneal\, texture\, and form silver to craft your piece. You will learn to clean and polish your final piece to create something that is a joy to wear. \nThe Honesty café at the Base is a great venue where you can treat yourself for lunch with your new silversmithing friends after the workshop! \nWhat to bring/wear:\nSilversmithing can be a messy business so please wear clothes that you will be comfortable in\, aprons will be provided. Please wear closed toes shoes and ensure that hair is tied back off your face. There is close work involved in working with silver so if you use glasses\, please don’t forget them! \nA cup of tea or coffee and piece of cake are included in the price of this workshop but don’t forget your water to keep you hydrated. \nBenefits:\nYou will learn the basics of silversmithing to create a piece that you will enjoy wearing for years to come\, or to give to a loved one as a perfect gift. \nWho is your tutor:\nSilversmith Sandra McArdle’s interest in silver jewellery making started many years ago. In 2016 Sandra graduated from the London Jewellery School\, Hatton Garden\, with a Diploma in Silver Jewellery (distinction) and started Sandra McArdle Jewellery. Sandra loves working with silver and semi precious stones to create an object of beauty. She is inspired by the way silver changes and responds as it’s worked on to create that final piece and to be part of that process is so rewarding.
URL:https://visitnewbury.org.uk/event/intro-to-silver-jewellery-workshop/
LOCATION:The Base\, Greenham\, The Base\, Greenham Business Park\, RG19 6HN
CATEGORIES:Arts & Crafts
ATTACH;FMTTYPE=image/png:https://visitnewbury.org.uk/wp-content/uploads/2026/04/Introduction-to-Silver-Jewellery-The-Base-Greenham.png
END:VEVENT
END:VCALENDAR