BEGIN:VCALENDAR
VERSION:2.0
PRODID:-//Visit Newbury - ECPv6.13.2.1//NONSGML v1.0//EN
CALSCALE:GREGORIAN
METHOD:PUBLISH
X-WR-CALNAME:Visit Newbury
X-ORIGINAL-URL:https://visitnewbury.org.uk
X-WR-CALDESC:Events for Visit Newbury
REFRESH-INTERVAL;VALUE=DURATION:PT1H
X-Robots-Tag:noindex
X-PUBLISHED-TTL:PT1H
BEGIN:VTIMEZONE
TZID:Europe/London
BEGIN:DAYLIGHT
TZOFFSETFROM:+0000
TZOFFSETTO:+0100
TZNAME:BST
DTSTART:20260329T010000
END:DAYLIGHT
BEGIN:STANDARD
TZOFFSETFROM:+0100
TZOFFSETTO:+0000
TZNAME:GMT
DTSTART:20261025T010000
END:STANDARD
END:VTIMEZONE
BEGIN:VEVENT
DTSTART;TZID=Europe/London:20260111T090000
DTEND;TZID=Europe/London:20260111T170000
DTSTAMP:20260422T123800
CREATED:20260108T145050Z
LAST-MODIFIED:20260108T145050Z
UID:1128184-1768122000-1768150800@visitnewbury.org.uk
SUMMARY:Iconiq Fitness Open Weekend
DESCRIPTION:Iconiq Fitness is opening its doors to everyone on 10th and 11th January\, where you’ll have the chance to try out the gym and meet the team\, no booking required. \nPlus\, one lucky winner who signs up over the weekend will win a hamper worth over £150 – and with a special January offer\, you can sign up in Janaury and get your first month for just £1 using code IFNY26!
URL:https://visitnewbury.org.uk/event/iconiq-fitness-11jan2026/
LOCATION:Iconiq Fitness\, Iconiq Fitness\, RG14 1AY
CATEGORIES:Health & Wellbeing,Open Days
ATTACH;FMTTYPE=image/jpeg:https://visitnewbury.org.uk/wp-content/uploads/2026/01/Iconiq-Open-Weekend-Jan26.jpg
END:VEVENT
END:VCALENDAR