BEGIN:VCALENDAR
VERSION:2.0
PRODID:-//Visit Newbury - ECPv6.13.2.1//NONSGML v1.0//EN
CALSCALE:GREGORIAN
METHOD:PUBLISH
X-WR-CALNAME:Visit Newbury
X-ORIGINAL-URL:https://visitnewbury.org.uk
X-WR-CALDESC:Events for Visit Newbury
REFRESH-INTERVAL;VALUE=DURATION:PT1H
X-Robots-Tag:noindex
X-PUBLISHED-TTL:PT1H
BEGIN:VTIMEZONE
TZID:Europe/London
BEGIN:DAYLIGHT
TZOFFSETFROM:+0000
TZOFFSETTO:+0100
TZNAME:BST
DTSTART:20250330T010000
END:DAYLIGHT
BEGIN:STANDARD
TZOFFSETFROM:+0100
TZOFFSETTO:+0000
TZNAME:GMT
DTSTART:20251026T010000
END:STANDARD
END:VTIMEZONE
BEGIN:VEVENT
DTSTART;TZID=Europe/London:20251031T133000
DTEND;TZID=Europe/London:20251031T173000
DTSTAMP:20260424T114321
CREATED:20251006T163151Z
LAST-MODIFIED:20251006T163151Z
UID:1127430-1761917400-1761931800@visitnewbury.org.uk
SUMMARY:Horrible Histories: Gorgeous Georgians and Vile Victorians
DESCRIPTION:We all want to meet people from history… the trouble is everyone is dead! \nSo it’s only fitting that this Halloween\, Horrible Histories return to Corn Exchange to tell the horrible history of Britain\, with the nasty bits left in. \nAre you ready to swing with a Georgian king? Does the Duke of Wellington get the boot? Would you stand and deliver to dastardly Dick Turpin? Can you help detectives find the headless man? Dare you dance the Tyburn jig? Will you be saved by Florence Nightingale? Find out what a baby farmer did and move to the groove with party Queen Victoria! \nThere are two performances on the day\, at 1:30pm and 4pm\, each lasting just over an hour. \nHead to the link below to learn more or book your tickets.
URL:https://visitnewbury.org.uk/event/horrible-histories-gorgeous-georgians-and-vile-victorians/
LOCATION:Corn Exchange Newbury\, Corn Exchange\, Market Place\, RG14 5BD
CATEGORIES:Children's Sessions,Halloween,History,School Holidays & Half Term,Theatre
ATTACH;FMTTYPE=image/webp:https://visitnewbury.org.uk/wp-content/uploads/2025/10/Corn-Exchange-Horrible-Histories-Oct-25-e1759768000893.webp
END:VEVENT
END:VCALENDAR