BEGIN:VCALENDAR
VERSION:2.0
PRODID:-//Visit Newbury - ECPv6.13.2.1//NONSGML v1.0//EN
CALSCALE:GREGORIAN
METHOD:PUBLISH
X-WR-CALNAME:Visit Newbury
X-ORIGINAL-URL:https://visitnewbury.org.uk
X-WR-CALDESC:Events for Visit Newbury
REFRESH-INTERVAL;VALUE=DURATION:PT1H
X-Robots-Tag:noindex
X-PUBLISHED-TTL:PT1H
BEGIN:VTIMEZONE
TZID:Europe/London
BEGIN:DAYLIGHT
TZOFFSETFROM:+0000
TZOFFSETTO:+0100
TZNAME:BST
DTSTART:20250330T010000
END:DAYLIGHT
BEGIN:STANDARD
TZOFFSETFROM:+0100
TZOFFSETTO:+0000
TZNAME:GMT
DTSTART:20251026T010000
END:STANDARD
END:VTIMEZONE
BEGIN:VEVENT
DTSTART;TZID=Europe/London:20251029T100000
DTEND;TZID=Europe/London:20251029T120000
DTSTAMP:20260420T140751
CREATED:20251007T100844Z
LAST-MODIFIED:20251007T100844Z
UID:12002527-1761732000-1761739200@visitnewbury.org.uk
SUMMARY:Holiday Art Club - October Half Term
DESCRIPTION:Let your little ones get creative this half-term as The Base hold their Holiday Art Club. \nCome along and experiment with different art techniques and creative projects. \nThe club runs 10am-12pm on Monday 27th until Thursday 30th October\, and includes the following sessions: \n\nMon 27th – Painted Pumpkins\nTues 28th – Clay Bobbleheads\nWed 29th – Painty Plants\nThur 30th Oct – Junk Robots\n\nTickets cost £12.50 per child per session which includes all materials\, suitable for ages 6-11. \nHead to the link below to learn more or book.
URL:https://visitnewbury.org.uk/event/holiday-art-club-at-the-base-october/2025-10-29/
LOCATION:The Base\, Greenham\, The Base\, Greenham Business Park\, RG19 6HN
CATEGORIES:Arts & Crafts,Children's Sessions,Halloween,School Holidays & Half Term
ATTACH;FMTTYPE=image/jpeg:https://visitnewbury.org.uk/wp-content/uploads/2025/10/The-Base-Holiday-Art-Club-October-Half-Term.jpg
END:VEVENT
END:VCALENDAR