BEGIN:VCALENDAR
VERSION:2.0
PRODID:-//Visit Newbury - ECPv6.13.2.1//NONSGML v1.0//EN
CALSCALE:GREGORIAN
METHOD:PUBLISH
X-WR-CALNAME:Visit Newbury
X-ORIGINAL-URL:https://visitnewbury.org.uk
X-WR-CALDESC:Events for Visit Newbury
REFRESH-INTERVAL;VALUE=DURATION:PT1H
X-Robots-Tag:noindex
X-PUBLISHED-TTL:PT1H
BEGIN:VTIMEZONE
TZID:Europe/London
BEGIN:DAYLIGHT
TZOFFSETFROM:+0000
TZOFFSETTO:+0100
TZNAME:BST
DTSTART:20250330T010000
END:DAYLIGHT
BEGIN:STANDARD
TZOFFSETFROM:+0100
TZOFFSETTO:+0000
TZNAME:GMT
DTSTART:20251026T010000
END:STANDARD
END:VTIMEZONE
BEGIN:VEVENT
DTSTART;TZID=Europe/London:20250225T190000
DTEND;TZID=Europe/London:20250225T200000
DTSTAMP:20260423T120911
CREATED:20250218T234841Z
LAST-MODIFIED:20250218T234841Z
UID:624210-1740510000-1740513600@visitnewbury.org.uk
SUMMARY:HEKA
DESCRIPTION:Everything is not as it seems.\nDrawing inspiration from the intricate connection between juggling and magic\, Heka transports audiences into a mesmerising realm where reality blurs with illusion. Heka transcends boundaries\, inviting spectators on a journey where objects materialise and vanish\, levitate\, and transform before their eyes. Yet beneath the surface lies a tantalising question: what is real and what is merely a trick of perception? \nEmbracing elements of contemporary choreography\, Heka reimagines magic through the lens of repetition\, counterpoint\, and misdirection. Conversely\, it explores how magic principles can inform choreographic expression\, challenging conventional notions of performance. \nAbove all it is a celebration of the silliness and absurdity of entertainment; a homage to the delights of the absurd. \nFull Price £17.25 / Concessions £15.25 (including booking fees)
URL:https://visitnewbury.org.uk/event/heka/
LOCATION:Corn Exchange Newbury\, Corn Exchange\, Market Place\, RG14 5BD
CATEGORIES:Theatre
ATTACH;FMTTYPE=image/jpeg:https://visitnewbury.org.uk/wp-content/uploads/2025/02/HEKA_8311Fin-c-Camilla-Greenwell-scaled-e1739922459934.jpg
END:VEVENT
END:VCALENDAR