BEGIN:VCALENDAR
VERSION:2.0
PRODID:-//Visit Newbury - ECPv6.13.2.1//NONSGML v1.0//EN
CALSCALE:GREGORIAN
METHOD:PUBLISH
X-WR-CALNAME:Visit Newbury
X-ORIGINAL-URL:https://visitnewbury.org.uk
X-WR-CALDESC:Events for Visit Newbury
REFRESH-INTERVAL;VALUE=DURATION:PT1H
X-Robots-Tag:noindex
X-PUBLISHED-TTL:PT1H
BEGIN:VTIMEZONE
TZID:Europe/London
BEGIN:DAYLIGHT
TZOFFSETFROM:+0000
TZOFFSETTO:+0100
TZNAME:BST
DTSTART:20250330T010000
END:DAYLIGHT
BEGIN:STANDARD
TZOFFSETFROM:+0100
TZOFFSETTO:+0000
TZNAME:GMT
DTSTART:20251026T010000
END:STANDARD
END:VTIMEZONE
BEGIN:VEVENT
DTSTART;TZID=Europe/London:20251031T160000
DTEND;TZID=Europe/London:20251031T220000
DTSTAMP:20260423T133606
CREATED:20251014T131453Z
LAST-MODIFIED:20251014T131453Z
UID:1127668-1761926400-1761948000@visitnewbury.org.uk
SUMMARY:Halloween at Delphic
DESCRIPTION:Join Delphic for a spooky evening down at the taproom\, with tricks and treats on offer. \nWho will win the best dressed Fancy Dress competition? Find out while you sip Halloween beer cocktails\, and enjoy legendary wings from Gurt Wings. \nAnd don’t miss out as Delphic will also be launching its Halloween beer! Fancy dress encouraged.
URL:https://visitnewbury.org.uk/event/halloween-at-delphic/
LOCATION:Delphic Brewing Co Taproom\, Delphic Brewing Co Taproom\, RG14 5DR
CATEGORIES:Halloween,Pub & Restaurant Events
ATTACH;FMTTYPE=image/jpeg:https://visitnewbury.org.uk/wp-content/uploads/2025/10/Halloween-at-Delphic.jpg
END:VEVENT
END:VCALENDAR