BEGIN:VCALENDAR
VERSION:2.0
PRODID:-//Visit Newbury - ECPv6.13.2.1//NONSGML v1.0//EN
CALSCALE:GREGORIAN
METHOD:PUBLISH
X-WR-CALNAME:Visit Newbury
X-ORIGINAL-URL:https://visitnewbury.org.uk
X-WR-CALDESC:Events for Visit Newbury
REFRESH-INTERVAL;VALUE=DURATION:PT1H
X-Robots-Tag:noindex
X-PUBLISHED-TTL:PT1H
BEGIN:VTIMEZONE
TZID:Europe/London
BEGIN:DAYLIGHT
TZOFFSETFROM:+0000
TZOFFSETTO:+0100
TZNAME:BST
DTSTART:20250330T010000
END:DAYLIGHT
BEGIN:STANDARD
TZOFFSETFROM:+0100
TZOFFSETTO:+0000
TZNAME:GMT
DTSTART:20251026T010000
END:STANDARD
END:VTIMEZONE
BEGIN:VEVENT
DTSTART;TZID=Europe/London:20250110T100000
DTEND;TZID=Europe/London:20250110T170000
DTSTAMP:20260420T074120
CREATED:20250108T001229Z
LAST-MODIFIED:20250108T001229Z
UID:123955-1736503200-1736528400@visitnewbury.org.uk
SUMMARY:GENerate: Student Art Exhibition 2025
DESCRIPTION:Marvel at the next GENeration of artists’ creations. \n\n\n\n\nFeaturing artworks created by students from local schools\, sixth forms and colleges\, this curated exhibition showcases and celebrates the imagination and creativity of young artists. \nParticipating education settings include: Basingstoke College of Technology\, Cheam School\, Downe House School\, Elstree School\, iCollege Alternative Education\, Mary Hare School\, St Bartholomew’s School\, St Gabriel’s School\, Trinity School\, University Centre Newbury\, Brockhurst and Marlston House Schools\, The Castle School\, Didcot Girls’ School\, The Hurst School\, Kennet School and Prior’s Court. \nSupported by The Linder Foundation and Greenham Trust
URL:https://visitnewbury.org.uk/event/generate-student-art-exhibition-2025/
LOCATION:The Base\, Greenham\, The Base\, Greenham Business Park\, RG19 6HN
CATEGORIES:Art Exhibition
ATTACH;FMTTYPE=image/jpeg:https://visitnewbury.org.uk/wp-content/uploads/2025/01/The-base-Generate-logo.jpg
END:VEVENT
END:VCALENDAR