BEGIN:VCALENDAR
VERSION:2.0
PRODID:-//Visit Newbury - ECPv6.13.2.1//NONSGML v1.0//EN
CALSCALE:GREGORIAN
METHOD:PUBLISH
X-WR-CALNAME:Visit Newbury
X-ORIGINAL-URL:https://visitnewbury.org.uk
X-WR-CALDESC:Events for Visit Newbury
REFRESH-INTERVAL;VALUE=DURATION:PT1H
X-Robots-Tag:noindex
X-PUBLISHED-TTL:PT1H
BEGIN:VTIMEZONE
TZID:Europe/London
BEGIN:DAYLIGHT
TZOFFSETFROM:+0000
TZOFFSETTO:+0100
TZNAME:BST
DTSTART:20250330T010000
END:DAYLIGHT
BEGIN:STANDARD
TZOFFSETFROM:+0100
TZOFFSETTO:+0000
TZNAME:GMT
DTSTART:20251026T010000
END:STANDARD
END:VTIMEZONE
BEGIN:VEVENT
DTSTART;TZID=Europe/London:20250914T100000
DTEND;TZID=Europe/London:20250914T160000
DTSTAMP:20260425T191406
CREATED:20250813T133544Z
LAST-MODIFIED:20250813T133544Z
UID:1126681-1757844000-1757865600@visitnewbury.org.uk
SUMMARY:Festival of Arts & Crafts - Craft Fair
DESCRIPTION:Join The Base for a colourful celebration of arts\, crafts and artisan food and drink from local makers and creators. \nKick-starting the two-week festival\, a craft fair featuring 50+ stalls will surround The Base building\, creating a bustling high street of high-quality crafters and artists for visitors to browse. \nGet involved with spray painting workshops (11am – 3pm)\, dog ‘paw-trait’ sessions (pre-booking recommended)\, as well as plenty of activities for families supported by the wonderful Berkshire Youth. \nInside the building\, browse the Festival of Art exhition\, an incredible curated exhibition featuring local 2D artists’ work for sale. Visitors will have the opportunity to have a go at a range of Taster Workshops from avibrant programme of workshops (see link below for full details) and courses\, and add to a gigantic Doodle Wall! \nIt’s free to attend with free parking too\, with a suggested donation of £2 on the door which will go directly to The Base charity – supporting all the work they do out in the local community and within their colourful walls! \nThere will also be a free shuttle bus running between the Festival of Arts & Crafts and Creative Commons at the entrance to Greenham Common.
URL:https://visitnewbury.org.uk/event/festival-of-arts-crafts-craft-fair-2/
LOCATION:The Base\, Greenham\, The Base\, Greenham Business Park\, RG19 6HN
CATEGORIES:Arts & Crafts,Craft Fair,Food & Drink
ATTACH;FMTTYPE=image/jpeg:https://visitnewbury.org.uk/wp-content/uploads/2025/08/The-Base-Festival-of-Arts-Crafts-Craft-Fair-2025.jpg
END:VEVENT
END:VCALENDAR