BEGIN:VCALENDAR
VERSION:2.0
PRODID:-//Visit Newbury - ECPv6.13.2.1//NONSGML v1.0//EN
CALSCALE:GREGORIAN
METHOD:PUBLISH
X-WR-CALNAME:Visit Newbury
X-ORIGINAL-URL:https://visitnewbury.org.uk
X-WR-CALDESC:Events for Visit Newbury
REFRESH-INTERVAL;VALUE=DURATION:PT1H
X-Robots-Tag:noindex
X-PUBLISHED-TTL:PT1H
BEGIN:VTIMEZONE
TZID:Europe/London
BEGIN:DAYLIGHT
TZOFFSETFROM:+0000
TZOFFSETTO:+0100
TZNAME:BST
DTSTART:20250330T010000
END:DAYLIGHT
BEGIN:STANDARD
TZOFFSETFROM:+0100
TZOFFSETTO:+0000
TZNAME:GMT
DTSTART:20251026T010000
END:STANDARD
END:VTIMEZONE
BEGIN:VEVENT
DTSTART;TZID=Europe/London:20250913T100000
DTEND;TZID=Europe/London:20250927T170000
DTSTAMP:20260425T204154
CREATED:20250813T131714Z
LAST-MODIFIED:20250813T132245Z
UID:1126663-1757757600-1758992400@visitnewbury.org.uk
SUMMARY:Festival of Art Exhibition
DESCRIPTION:Join The Base for a colourful celebration of arts and crafts! \nAs part of the festival\, local artists will be celebrated as they display their work in the venue’s Gallery throughout the Festival (Sat 13th to Sat 27th Sep)\, offering visitors the chance to purchase a piece of original art. \nThe exhibition is open everyday\, 10am – 5pm\, and is free to attend.
URL:https://visitnewbury.org.uk/event/festival-of-art-exhibition/
LOCATION:The Base\, Greenham\, The Base\, Greenham Business Park\, RG19 6HN
CATEGORIES:Art Exhibition
ATTACH;FMTTYPE=image/jpeg:https://visitnewbury.org.uk/wp-content/uploads/2025/08/Festival-of-Arts-Crafts-Exhibition.jpg
END:VEVENT
END:VCALENDAR