BEGIN:VCALENDAR
VERSION:2.0
PRODID:-//Visit Newbury - ECPv6.13.2.1//NONSGML v1.0//EN
CALSCALE:GREGORIAN
METHOD:PUBLISH
X-WR-CALNAME:Visit Newbury
X-ORIGINAL-URL:https://visitnewbury.org.uk
X-WR-CALDESC:Events for Visit Newbury
REFRESH-INTERVAL;VALUE=DURATION:PT1H
X-Robots-Tag:noindex
X-PUBLISHED-TTL:PT1H
BEGIN:VTIMEZONE
TZID:Europe/London
BEGIN:DAYLIGHT
TZOFFSETFROM:+0000
TZOFFSETTO:+0100
TZNAME:BST
DTSTART:20250330T010000
END:DAYLIGHT
BEGIN:STANDARD
TZOFFSETFROM:+0100
TZOFFSETTO:+0000
TZNAME:GMT
DTSTART:20251026T010000
END:STANDARD
END:VTIMEZONE
BEGIN:VEVENT
DTSTART;TZID=Europe/London:20251101T130000
DTEND;TZID=Europe/London:20251101T130000
DTSTAMP:20260425T161823
CREATED:20250812T124234Z
LAST-MODIFIED:20250812T124716Z
UID:1126613-1762002000-1762002000@visitnewbury.org.uk
SUMMARY:FestiBel IV
DESCRIPTION:FestiBel returns for its 4th year with new songs and a new band member! \nNick Piper created FestiBel after his wife Bel sadly passed away in 2021. When covid restrictions were lifted\, he organised a mini festival to celebrate Bel’s life through music\, and to raise valuable funds for Newbury Cancer Care – FestiBel was born. \nThis special 4th event will take place at Newbury’s Royal British Legion\, where you can expect a wonderful afternoon of music\, with profits again going towards Newbury Cancer Care. \nCapacity at the venue is limited\, so make sure you get in early and book your tickets via the link below.
URL:https://visitnewbury.org.uk/event/festibel-iv/
LOCATION:Pelican Lounge & Haig Hall\, Pelican Lounge & Haig Hall at Newbury Royal British Legion\, RG14 1NP
CATEGORIES:Fundraising,Live Music
ATTACH;FMTTYPE=image/jpeg:https://visitnewbury.org.uk/wp-content/uploads/2025/08/FestiBel.jpg
END:VEVENT
END:VCALENDAR