BEGIN:VCALENDAR
VERSION:2.0
PRODID:-//Visit Newbury - ECPv6.13.2.1//NONSGML v1.0//EN
CALSCALE:GREGORIAN
METHOD:PUBLISH
X-WR-CALNAME:Visit Newbury
X-ORIGINAL-URL:https://visitnewbury.org.uk
X-WR-CALDESC:Events for Visit Newbury
REFRESH-INTERVAL;VALUE=DURATION:PT1H
X-Robots-Tag:noindex
X-PUBLISHED-TTL:PT1H
BEGIN:VTIMEZONE
TZID:Europe/London
BEGIN:DAYLIGHT
TZOFFSETFROM:+0000
TZOFFSETTO:+0100
TZNAME:BST
DTSTART:20250330T010000
END:DAYLIGHT
BEGIN:STANDARD
TZOFFSETFROM:+0100
TZOFFSETTO:+0000
TZNAME:GMT
DTSTART:20251026T010000
END:STANDARD
END:VTIMEZONE
BEGIN:VEVENT
DTSTART;TZID=Europe/London:20250131T190000
DTEND;TZID=Europe/London:20250131T200000
DTSTAMP:20260422T123931
CREATED:20250108T172700Z
LAST-MODIFIED:20250108T172700Z
UID:10000014-1738350000-1738353600@visitnewbury.org.uk
SUMMARY:Family Climbing Sessions
DESCRIPTION:
URL:https://visitnewbury.org.uk/event/family-climbing-sessions/2025-01-31/
LOCATION:Waterside Centre\, Waterside Centre\, Waldegrave Place\, RG14 1DS
ATTACH;FMTTYPE=image/png:https://visitnewbury.org.uk/wp-content/uploads/2025/01/January-Family-Climb.png
END:VEVENT
END:VCALENDAR