BEGIN:VCALENDAR
VERSION:2.0
PRODID:-//Visit Newbury - ECPv6.13.2.1//NONSGML v1.0//EN
CALSCALE:GREGORIAN
METHOD:PUBLISH
X-WR-CALNAME:Visit Newbury
X-ORIGINAL-URL:https://visitnewbury.org.uk
X-WR-CALDESC:Events for Visit Newbury
REFRESH-INTERVAL;VALUE=DURATION:PT1H
X-Robots-Tag:noindex
X-PUBLISHED-TTL:PT1H
BEGIN:VTIMEZONE
TZID:Europe/London
BEGIN:DAYLIGHT
TZOFFSETFROM:+0000
TZOFFSETTO:+0100
TZNAME:BST
DTSTART:20260329T010000
END:DAYLIGHT
BEGIN:STANDARD
TZOFFSETFROM:+0100
TZOFFSETTO:+0000
TZNAME:GMT
DTSTART:20261025T010000
END:STANDARD
END:VTIMEZONE
BEGIN:VEVENT
DTSTART;TZID=Europe/London:20260312T193000
DTEND;TZID=Europe/London:20260312T193000
DTSTAMP:20260425T131153
CREATED:20260123T132938Z
LAST-MODIFIED:20260123T132938Z
UID:1128470-1773343800-1773343800@visitnewbury.org.uk
SUMMARY:Early Doors Comedy Night
DESCRIPTION:Join Corn Exchange Newbury for an evening of the freshest comedy! \nEach night two comedians test out brand-new material in their quest to build an hour(ish) long show each. This is your chance to catch familiar favourites and rising stars at their most daring. \nHead along\, have a laugh\, and find the funny together! \nYour comedians for this event are Felicity Ward and Johnny White Really-Really.
URL:https://visitnewbury.org.uk/event/early-doors-comedy-night-12mar/
LOCATION:Corn Exchange Newbury\, Corn Exchange\, Market Place\, RG14 5BD
CATEGORIES:Comedy
ATTACH;FMTTYPE=image/webp:https://visitnewbury.org.uk/wp-content/uploads/2026/01/Corn-Exchange-Early-Doors-Comedy-Nights.webp
END:VEVENT
END:VCALENDAR