BEGIN:VCALENDAR
VERSION:2.0
PRODID:-//Visit Newbury - ECPv6.13.2.1//NONSGML v1.0//EN
CALSCALE:GREGORIAN
METHOD:PUBLISH
X-WR-CALNAME:Visit Newbury
X-ORIGINAL-URL:https://visitnewbury.org.uk
X-WR-CALDESC:Events for Visit Newbury
REFRESH-INTERVAL;VALUE=DURATION:PT1H
X-Robots-Tag:noindex
X-PUBLISHED-TTL:PT1H
BEGIN:VTIMEZONE
TZID:Europe/London
BEGIN:DAYLIGHT
TZOFFSETFROM:+0000
TZOFFSETTO:+0100
TZNAME:BST
DTSTART:20250330T010000
END:DAYLIGHT
BEGIN:STANDARD
TZOFFSETFROM:+0100
TZOFFSETTO:+0000
TZNAME:GMT
DTSTART:20251026T010000
END:STANDARD
END:VTIMEZONE
BEGIN:VEVENT
DTSTART;TZID=Europe/London:20250909T100800
DTEND;TZID=Europe/London:20250909T100800
DTSTAMP:20260425T174849
CREATED:20250813T133253Z
LAST-MODIFIED:20250909T091016Z
UID:1126671-1757412480-1757412480@visitnewbury.org.uk
SUMMARY:Creative Commons
DESCRIPTION:Take a journey across Greenham Common where aerial circus\, dance\, street theatre\, music and more bring to life this very special environment – and its rich and complex stories. \nCreative Commons will transform Greenham Common – whether you love nature\, enjoy the arts\, or are just looking for a fun day out in beautiful surroundings\, Corn Exchange Newbury’s 101 Outdoor Arts invites you to experience a very special event at one of Newbury’s best-loved and most fascinating green spaces. \nMarking 25 years since Greenham Common returned to public ownership\, come and celebrate its rich past and remarkable restoration – from military base to wildlife sanctuary – through this fascinating and interactive event. \nOn both Saturday and Sunday there will be performances and installations across Greenham Common perfect for all ages to get involved. \nClick here to see the full schedule for the weekend. \nThere will also be a free shuttle bus running between Creative Commons and the Festival of Arts & Crafts at The Base in Greenham Business Park.
URL:https://visitnewbury.org.uk/event/creative-commons/
LOCATION:Greenham Common\, Greenham Common
CATEGORIES:Community Events,History,Outdoor Performances
ATTACH;FMTTYPE=image/jpeg:https://visitnewbury.org.uk/wp-content/uploads/2025/08/Creative-Commons-101.jpg
END:VEVENT
END:VCALENDAR