BEGIN:VCALENDAR
VERSION:2.0
PRODID:-//Visit Newbury - ECPv6.13.2.1//NONSGML v1.0//EN
CALSCALE:GREGORIAN
METHOD:PUBLISH
X-WR-CALNAME:Visit Newbury
X-ORIGINAL-URL:https://visitnewbury.org.uk
X-WR-CALDESC:Events for Visit Newbury
REFRESH-INTERVAL;VALUE=DURATION:PT1H
X-Robots-Tag:noindex
X-PUBLISHED-TTL:PT1H
BEGIN:VTIMEZONE
TZID:Europe/London
BEGIN:DAYLIGHT
TZOFFSETFROM:+0000
TZOFFSETTO:+0100
TZNAME:BST
DTSTART:20250330T010000
END:DAYLIGHT
BEGIN:STANDARD
TZOFFSETFROM:+0100
TZOFFSETTO:+0000
TZNAME:GMT
DTSTART:20251026T010000
END:STANDARD
END:VTIMEZONE
BEGIN:VEVENT
DTSTART;TZID=Europe/London:20251229T103000
DTEND;TZID=Europe/London:20251229T153000
DTSTAMP:20260425T145242
CREATED:20250512T142005Z
LAST-MODIFIED:20250602T151556Z
UID:1125112-1767004200-1767022200@visitnewbury.org.uk
SUMMARY:Coral Challow Hurdle Day
DESCRIPTION:Celebrate the holiday season and treat your family to a day out at the Challow Hurdle Day. \n\n\n\n\nSituated ideally between Christmas and New Year it’s the perfect excuse to get family and friends together and enjoy a day out at the races – but then again\, who needs an excuse. \nThe day – which features the Grade 1 Coral Challow Hurdle on the track – also boasts a host of free family-friendly activities and fun off it. \nTake your pick from the Grandstand and Premier Enclosures – whichever you pick\, book early and save with Under 18s going free and discounts for groups of seven or more. \nAnd with free parking and an on-site train station it couldn’t be easier to get to Newbury Racecourse to enjoy everything the Coral Challow Hurdle Day has to offer.
URL:https://visitnewbury.org.uk/event/coral-challow-hurdle-day/
LOCATION:Newbury Racecourse\, Newbury Racecourse\, RG14 7NZ
CATEGORIES:Horse Racing,Sport
ATTACH;FMTTYPE=image/jpeg:https://visitnewbury.org.uk/wp-content/uploads/2025/05/Coral-Challow-Hurdle-Raceday-390x390-1.jpg
END:VEVENT
END:VCALENDAR