BEGIN:VCALENDAR
VERSION:2.0
PRODID:-//Visit Newbury - ECPv6.13.2.1//NONSGML v1.0//EN
CALSCALE:GREGORIAN
METHOD:PUBLISH
X-WR-CALNAME:Visit Newbury
X-ORIGINAL-URL:https://visitnewbury.org.uk
X-WR-CALDESC:Events for Visit Newbury
REFRESH-INTERVAL;VALUE=DURATION:PT1H
X-Robots-Tag:noindex
X-PUBLISHED-TTL:PT1H
BEGIN:VTIMEZONE
TZID:Europe/London
BEGIN:DAYLIGHT
TZOFFSETFROM:+0000
TZOFFSETTO:+0100
TZNAME:BST
DTSTART:20250330T010000
END:DAYLIGHT
BEGIN:STANDARD
TZOFFSETFROM:+0100
TZOFFSETTO:+0000
TZNAME:GMT
DTSTART:20251026T010000
END:STANDARD
END:VTIMEZONE
BEGIN:VEVENT
DTSTART;TZID=Europe/London:20251101T100000
DTEND;TZID=Europe/London:20251101T120000
DTSTAMP:20260421T170910
CREATED:20251031T095109Z
LAST-MODIFIED:20251031T095109Z
UID:1127851-1761991200-1761998400@visitnewbury.org.uk
SUMMARY:Charity Coffee Morning
DESCRIPTION:Head along to the Town Hall in Market Place for a Charity Coffee Morning\, raising funds for the The Newbury Weekly News Over 80’s Parcel Fund. \nEnjoy coffee\, cake\, and good company while supporting a great cause that helps spread joy to our elderly community this festive season.
URL:https://visitnewbury.org.uk/event/charity-coffee-morning/
LOCATION:Newbury Town Hall\, Newbury Town Hall\, RG14 5AA
CATEGORIES:Community Events,Fundraising
ATTACH;FMTTYPE=image/jpeg:https://visitnewbury.org.uk/wp-content/uploads/2025/10/Charity-Coffee-Morning-Over-80s.jpg
END:VEVENT
END:VCALENDAR