BEGIN:VCALENDAR
VERSION:2.0
PRODID:-//Visit Newbury - ECPv6.13.2.1//NONSGML v1.0//EN
CALSCALE:GREGORIAN
METHOD:PUBLISH
X-WR-CALNAME:Visit Newbury
X-ORIGINAL-URL:https://visitnewbury.org.uk
X-WR-CALDESC:Events for Visit Newbury
REFRESH-INTERVAL;VALUE=DURATION:PT1H
X-Robots-Tag:noindex
X-PUBLISHED-TTL:PT1H
BEGIN:VTIMEZONE
TZID:Europe/London
BEGIN:DAYLIGHT
TZOFFSETFROM:+0000
TZOFFSETTO:+0100
TZNAME:BST
DTSTART:20260329T010000
END:DAYLIGHT
BEGIN:STANDARD
TZOFFSETFROM:+0100
TZOFFSETTO:+0000
TZNAME:GMT
DTSTART:20261025T010000
END:STANDARD
END:VTIMEZONE
BEGIN:VEVENT
DTSTART;TZID=Europe/London:20260523T100000
DTEND;TZID=Europe/London:20260523T133000
DTSTAMP:20260420T135604
CREATED:20260415T130718Z
LAST-MODIFIED:20260415T130718Z
UID:1129745-1779530400-1779543000@visitnewbury.org.uk
SUMMARY:Butterfly Wire Wreath Workshop
DESCRIPTION:Learn the art of embossing onto foil with sculptor Flora Gare. \nYou will design your own butterfly wreath by tracing templates\, scoring and cutting the foil to attach to a copper ring. \nFlora is a sculptor inspired by the natural world. She uses copper wire to draw in space\, making delicate sculptures and wall based pieces that contrast the line of wire with the colour and fluidity of ink. \nWhat to expect: This is a great introduction to work working with wire. Guided by Flora\, you will explore handing wire and metal foil to design your own wreath. Using templates\, you will learn how to scoring\, cut and emboss the foil to attached to a copper ring that will create your butterfly wreath to take home. \nWhat to bring/wear: All materials provided. Bring a pair of pliers if you have them to hand. \nBenefits: Wire is a malleable and diverse material that allows you to experiment with different forms and shapes in a creative and spontaneous way. Being lightweight and durable\, it is a rewarding craft that you can grow and develop if you wish to explore you explore the medium further.
URL:https://visitnewbury.org.uk/event/butterfly-wire-wreath-workshop/
LOCATION:The Base\, Greenham\, The Base\, Greenham Business Park\, RG19 6HN
CATEGORIES:Arts & Crafts
ATTACH;FMTTYPE=image/png:https://visitnewbury.org.uk/wp-content/uploads/2026/04/Butterfly-Wire-Wreath-Workshop-The-Base-Greenham.png
END:VEVENT
END:VCALENDAR