BEGIN:VCALENDAR
VERSION:2.0
PRODID:-//Visit Newbury - ECPv6.13.2.1//NONSGML v1.0//EN
CALSCALE:GREGORIAN
METHOD:PUBLISH
X-WR-CALNAME:Visit Newbury
X-ORIGINAL-URL:https://visitnewbury.org.uk
X-WR-CALDESC:Events for Visit Newbury
REFRESH-INTERVAL;VALUE=DURATION:PT1H
X-Robots-Tag:noindex
X-PUBLISHED-TTL:PT1H
BEGIN:VTIMEZONE
TZID:Europe/London
BEGIN:DAYLIGHT
TZOFFSETFROM:+0000
TZOFFSETTO:+0100
TZNAME:BST
DTSTART:20250330T010000
END:DAYLIGHT
BEGIN:STANDARD
TZOFFSETFROM:+0100
TZOFFSETTO:+0000
TZNAME:GMT
DTSTART:20251026T010000
END:STANDARD
END:VTIMEZONE
BEGIN:VEVENT
DTSTART;TZID=Europe/London:20251217T110000
DTEND;TZID=Europe/London:20251217T160000
DTSTAMP:20260425T145234
CREATED:20250512T141758Z
LAST-MODIFIED:20251128T155556Z
UID:1125109-1765969200-1765987200@visitnewbury.org.uk
SUMMARY:BetVictor Christmas Raceday
DESCRIPTION:Christmas gets started early at Newbury courtesy of our BetVictor Christmas Raceday on Wednesday 17th December. \n\n\n\n\nEnjoy a day’s Jumps racing with friends and family – all while getting in the festive spirit. \nMake use of everything the Premier Enclosure has to offer – book early and save with Under 18s going free and discounts for groups of seven or more. \nAnd with free parking and an on-site train station it couldn’t be easier to get to Newbury Racecourse to celebrate Christmas in style.
URL:https://visitnewbury.org.uk/event/betvictor-christmas-raceday/
LOCATION:Newbury Racecourse\, Newbury Racecourse\, RG14 7NZ
CATEGORIES:Horse Racing,Sport
ATTACH;FMTTYPE=image/jpeg:https://visitnewbury.org.uk/wp-content/uploads/2025/05/BetVictor-Christmas-Raceday.jpg
END:VEVENT
END:VCALENDAR