BEGIN:VCALENDAR
VERSION:2.0
PRODID:-//Visit Newbury - ECPv6.13.2.1//NONSGML v1.0//EN
CALSCALE:GREGORIAN
METHOD:PUBLISH
X-WR-CALNAME:Visit Newbury
X-ORIGINAL-URL:https://visitnewbury.org.uk
X-WR-CALDESC:Events for Visit Newbury
REFRESH-INTERVAL;VALUE=DURATION:PT1H
X-Robots-Tag:noindex
X-PUBLISHED-TTL:PT1H
BEGIN:VTIMEZONE
TZID:Europe/London
BEGIN:DAYLIGHT
TZOFFSETFROM:+0000
TZOFFSETTO:+0100
TZNAME:BST
DTSTART:20260329T010000
END:DAYLIGHT
BEGIN:STANDARD
TZOFFSETFROM:+0100
TZOFFSETTO:+0000
TZNAME:GMT
DTSTART:20261025T010000
END:STANDARD
END:VTIMEZONE
BEGIN:VEVENT
DTSTART;TZID=Europe/London:20260523T090000
DTEND;TZID=Europe/London:20260523T090000
DTSTAMP:20260420T094539
CREATED:20260414T111207Z
LAST-MODIFIED:20260414T111207Z
UID:1129684-1779526800-1779526800@visitnewbury.org.uk
SUMMARY:Armed Forces & Veterans Breakfast Club
DESCRIPTION:Start your weekend with good company\, a hearty breakfast\, and a warm welcome at the Newbury RBL Club. \nServing members\, veterans and family members are welcome to join for this breakfast club at Pelican Lane. To book\, please call the club on 01635 47415.
URL:https://visitnewbury.org.uk/event/armed-forces-veterans-breakfast-club/
LOCATION:Pelican Lounge & Haig Hall\, Pelican Lounge & Haig Hall at Newbury Royal British Legion\, RG14 1NP
CATEGORIES:Food & Drink
ATTACH;FMTTYPE=image/jpeg:https://visitnewbury.org.uk/wp-content/uploads/2026/04/Pelican-Lounge-Haig-Hall.jpg
END:VEVENT
END:VCALENDAR