BEGIN:VCALENDAR
VERSION:2.0
PRODID:-//Visit Newbury - ECPv6.13.2.1//NONSGML v1.0//EN
CALSCALE:GREGORIAN
METHOD:PUBLISH
X-WR-CALNAME:Visit Newbury
X-ORIGINAL-URL:https://visitnewbury.org.uk
X-WR-CALDESC:Events for Visit Newbury
REFRESH-INTERVAL;VALUE=DURATION:PT1H
X-Robots-Tag:noindex
X-PUBLISHED-TTL:PT1H
BEGIN:VTIMEZONE
TZID:Europe/London
BEGIN:DAYLIGHT
TZOFFSETFROM:+0000
TZOFFSETTO:+0100
TZNAME:BST
DTSTART:20250330T010000
END:DAYLIGHT
BEGIN:STANDARD
TZOFFSETFROM:+0100
TZOFFSETTO:+0000
TZNAME:GMT
DTSTART:20251026T010000
END:STANDARD
END:VTIMEZONE
BEGIN:VEVENT
DTSTART;TZID=Europe/London:20250625T193000
DTEND;TZID=Europe/London:20250625T213000
DTSTAMP:20260425T172637
CREATED:20250530T101153Z
LAST-MODIFIED:20250530T101153Z
UID:1125281-1750879800-1750887000@visitnewbury.org.uk
SUMMARY:Are We There Yet?
DESCRIPTION:If you are looking for a play that takes a light-hearted approach to some tough issues\, this one is for you! \nAre We There Yet? comes to Corn Exchange Newbury on Wednesday 25th June\, brought to the stage by Rank & File Theatre as the final stop on its pop-up tour during Refugee Week. \nThe play is told through the lens of a diverse community\, drawing on their experience via comedy\, multilingual storytelling and absurd spectacle. \nHead to the link below to learn more or book your tickets.
URL:https://visitnewbury.org.uk/event/are-we-there-yet/
LOCATION:Corn Exchange Newbury\, Corn Exchange\, Market Place\, RG14 5BD
CATEGORIES:Arts & Culture,Theatre
ATTACH;FMTTYPE=image/jpeg:https://visitnewbury.org.uk/wp-content/uploads/2025/05/Are-We-There-Yet-Rank-and-File.jpg
END:VEVENT
END:VCALENDAR