BEGIN:VCALENDAR
VERSION:2.0
PRODID:-//Visit Newbury - ECPv6.13.2.1//NONSGML v1.0//EN
CALSCALE:GREGORIAN
METHOD:PUBLISH
X-WR-CALNAME:Visit Newbury
X-ORIGINAL-URL:https://visitnewbury.org.uk
X-WR-CALDESC:Events for Visit Newbury
REFRESH-INTERVAL;VALUE=DURATION:PT1H
X-Robots-Tag:noindex
X-PUBLISHED-TTL:PT1H
BEGIN:VTIMEZONE
TZID:Europe/London
BEGIN:DAYLIGHT
TZOFFSETFROM:+0000
TZOFFSETTO:+0100
TZNAME:BST
DTSTART:20250330T010000
END:DAYLIGHT
BEGIN:STANDARD
TZOFFSETFROM:+0100
TZOFFSETTO:+0000
TZNAME:GMT
DTSTART:20251026T010000
END:STANDARD
END:VTIMEZONE
BEGIN:VEVENT
DTSTART;TZID=Europe/London:20250219T183000
DTEND;TZID=Europe/London:20250219T183000
DTSTAMP:20260425T162633
CREATED:20250217T145509Z
LAST-MODIFIED:20250217T153053Z
UID:624183-1739989800-1739989800@visitnewbury.org.uk
SUMMARY:An Evening of Jazz & Blues Music with Jon Walsh
DESCRIPTION:Join the team at Chego’s for an evening of jazz & blues with fantastic local artist Jon Walsh. \nIf you couldn’t make it on Valentine’s Day\, it’s the perfect opportunity to book a table and enjoy a relaxed evening of wine\, cheese and soft jazz music\, from 6:30pm. \nHead to the link below to book.
URL:https://visitnewbury.org.uk/event/an-evening-of-jazz-blues-music-with-jon-walsh/
LOCATION:Chego’s\, Chego's\, RG14 5LL
CATEGORIES:Live Music,Pub & Restaurant Events
ATTACH;FMTTYPE=image/jpeg:https://visitnewbury.org.uk/wp-content/uploads/2025/02/Chegos-an-evening-of-Jazz-Blues.jpg
END:VEVENT
END:VCALENDAR