BEGIN:VCALENDAR
VERSION:2.0
PRODID:-//Visit Newbury - ECPv6.13.2.1//NONSGML v1.0//EN
CALSCALE:GREGORIAN
METHOD:PUBLISH
X-WR-CALNAME:Visit Newbury
X-ORIGINAL-URL:https://visitnewbury.org.uk
X-WR-CALDESC:Events for Visit Newbury
REFRESH-INTERVAL;VALUE=DURATION:PT1H
X-Robots-Tag:noindex
X-PUBLISHED-TTL:PT1H
BEGIN:VTIMEZONE
TZID:Europe/London
BEGIN:DAYLIGHT
TZOFFSETFROM:+0000
TZOFFSETTO:+0100
TZNAME:BST
DTSTART:20250330T010000
END:DAYLIGHT
BEGIN:STANDARD
TZOFFSETFROM:+0100
TZOFFSETTO:+0000
TZNAME:GMT
DTSTART:20251026T010000
END:STANDARD
END:VTIMEZONE
BEGIN:VEVENT
DTSTART;TZID=Europe/London:20250814T190000
DTEND;TZID=Europe/London:20250815T020000
DTSTAMP:20260425T174914
CREATED:20250812T151113Z
LAST-MODIFIED:20250812T151113Z
UID:1126625-1755198000-1755223200@visitnewbury.org.uk
SUMMARY:A-Level Results Party
DESCRIPTION:Celebrate a busy end to sixth form and (hopefully) some fantastic results at the end of results day at Reloaded Bar! \n18+ only\, £5 drinks and a free shot with your ticket. \nThere will be Happy Hour deals all night and DJ 2Play will be bringing the party vibes well into the early hours. \nGrab your free ticket via the link below – or team up with your friends and treat yourselves to a VIP booth!
URL:https://visitnewbury.org.uk/event/a-level-results-party/
LOCATION:Reloaded Bar\, Reloaded Bar\, RG14 5AN
CATEGORIES:Music,Pub & Restaurant Events
ATTACH;FMTTYPE=image/jpeg:https://visitnewbury.org.uk/wp-content/uploads/2025/08/Reloaded-A-Level-Results-Party.jpg
END:VEVENT
END:VCALENDAR