BEGIN:VCALENDAR
VERSION:2.0
PRODID:-//Visit Newbury - ECPv6.13.2.1//NONSGML v1.0//EN
CALSCALE:GREGORIAN
METHOD:PUBLISH
X-WR-CALNAME:Visit Newbury
X-ORIGINAL-URL:https://visitnewbury.org.uk
X-WR-CALDESC:Events for Visit Newbury
REFRESH-INTERVAL;VALUE=DURATION:PT1H
X-Robots-Tag:noindex
X-PUBLISHED-TTL:PT1H
BEGIN:VTIMEZONE
TZID:Europe/London
BEGIN:DAYLIGHT
TZOFFSETFROM:+0000
TZOFFSETTO:+0100
TZNAME:BST
DTSTART:20250330T010000
END:DAYLIGHT
BEGIN:STANDARD
TZOFFSETFROM:+0100
TZOFFSETTO:+0000
TZNAME:GMT
DTSTART:20251026T010000
END:STANDARD
END:VTIMEZONE
BEGIN:VEVENT
DTSTART;TZID=Europe/London:20250507T190000
DTEND;TZID=Europe/London:20250507T200000
DTSTAMP:20260424T125620
CREATED:20250502T160418Z
LAST-MODIFIED:20250502T163239Z
UID:12001961-1746644400-1746648000@visitnewbury.org.uk
SUMMARY:A Day to Remember
DESCRIPTION:To celebrate the 80th anniversary of VE Day\, The New Era Players will be performing readings of extracts\, poems and songs of World War II at West Berkshire Museum\, bringing to life the memories\, thoughts and feelings of the people who lived through the experiences of wartime. \nWest Berkshire Museum | Wednesday 7 & Thursday 8 May | 1pm & 7 pm | £5 donation to the Museum.
URL:https://visitnewbury.org.uk/event/a-day-to-remember/2025-05-07/2/
LOCATION:West Berkshire Museum\, West Berkshire Museum\, RG14 5AS
CATEGORIES:Community Events,History,Museum Events
ATTACH;FMTTYPE=image/jpeg:https://visitnewbury.org.uk/wp-content/uploads/2025/05/A-Day-To-Remember-West-Berks-Museum.jpg
END:VEVENT
END:VCALENDAR